BEGIN:VCALENDAR
VERSION:2.0
PRODID:DPCALENDAR
CALSCALE:GREGORIAN
BEGIN:VTIMEZONE
TZID:Europe/Stockholm
BEGIN:STANDARD
DTSTART:20251026T010000
TZOFFSETFROM:+0200
TZOFFSETTO:+0100
TZNAME:CET
END:STANDARD
BEGIN:STANDARD
DTSTART:20261025T010000
TZOFFSETFROM:+0200
TZOFFSETTO:+0100
TZNAME:CET
END:STANDARD
BEGIN:DAYLIGHT
DTSTART:20260329T010000
TZOFFSETFROM:+0100
TZOFFSETTO:+0200
TZNAME:CEST
END:DAYLIGHT
END:VTIMEZONE
X-WR-TIMEZONE:Europe/Stockholm
BEGIN:VEVENT
DTSTART;TZID=Europe/Stockholm:20250220T190000
DTEND;TZID=Europe/Stockholm:20250220T210000
UID:2EC496A2-8E84-4128-84AE-0AE29D4A3CEA
SUMMARY:Årsmöte 2025
CREATED:20241129T085453Z
DTSTAMP:20241129T085453Z
URL:https://www.gbk70.se/index.php/component/dpcalendar/event/1?calid=11
DESCRIPTION:Den 20 februari 2025 är det dags för årsmöte i Gålö båtklubb. Kallelse kommer att skickas ut i god tid innan mötet. Motioner till styrelsen måste skickas in senast den 8 januari för att styrelsen ska hinna behandla dem. Skicka motionerna till info@gbk70.se.
X-ALT-DESC;FMTTYPE=text/html:<p>Den 20 februari 2025 är det dags för årsmöte i Gålö båtklubb. Kallelse kommer att skickas ut i god tid innan mötet. Motioner till styrelsen måste skickas in senast den 8 januari för att styrelsen ska hinna behandla dem. Skicka motionerna till <a href="mailto:info@gbk70.se">info@gbk70.se</a>.</p>
LAST-MODIFIED:20241129T092542Z
SEQUENCE:1849
LOCATION:Dalarövägen\, 136 45 Handen\, Stockholm County\, Sverige
GEO:59.16690416;18.15155983
X-LOCATION-DISPLAYNAME:Fredrika Bremer Gymnasiet
X-ACCESS:1
X-HITS:498
X-COLOR:3366cc
X-SHOW-END-TIME:0
END:VEVENT
BEGIN:VEVENT
DTSTART;TZID=Europe/Stockholm:20250421T100000
DTEND;TZID=Europe/Stockholm:20250421T150000
UID:619117AA-F396-4F17-84DF-CA42C6AE6440
SUMMARY:Bomflytt
CREATED:20250318T171708Z
DTSTAMP:20250318T171708Z
URL:https://www.gbk70.se/index.php/component/dpcalendar/event/8?calid=11
LAST-MODIFIED:20250318T171708Z
SEQUENCE:0
LOCATION:Askviksvägen\, Stockholm County\, Sverige
GEO:59.09743441;18.29000473
X-LOCATION-DISPLAYNAME:GBK70
X-ACCESS:1
X-HITS:358
X-COLOR:3366cc
X-SHOW-END-TIME:1
END:VEVENT
BEGIN:VEVENT
DTSTART;TZID=Europe/Stockholm:20250426T073000
DTEND;TZID=Europe/Stockholm:20250426T173000
UID:DEBCDD47-D41A-4BF6-80DE-4831716AB107
SUMMARY:Sjösättning 2025
CREATED:20241129T085659Z
DTSTAMP:20241129T085659Z
URL:https://www.gbk70.se/index.php/component/dpcalendar/event/2?calid=11
DESCRIPTION:Sjösättning, samling kl 07:30 klubbstugan, schema kommer senare
X-ALT-DESC;FMTTYPE=text/html:<p>Sjösättning, samling kl 07:30 klubbstugan, schema kommer senare</p>
LAST-MODIFIED:20241201T130247Z
SEQUENCE:187548
LOCATION:Askviksvägen\, Stockholm County\, Sverige
GEO:59.09743441;18.29000473
X-LOCATION-DISPLAYNAME:GBK70
X-ACCESS:1
X-HITS:910
X-COLOR:3366cc
X-SHOW-END-TIME:1
END:VEVENT
BEGIN:VEVENT
DTSTART;TZID=Europe/Stockholm:20250427T073000
DTEND;TZID=Europe/Stockholm:20250427T173000
UID:6239A51A-4D77-485A-A282-A47F1AF21662
SUMMARY:Sjösättning 2025
CREATED:20241129T085736Z
DTSTAMP:20241129T085736Z
URL:https://www.gbk70.se/index.php/component/dpcalendar/event/3?calid=11
DESCRIPTION:Sjösättning, samling kl 07:30 klubbstugan, schema kommer senare
X-ALT-DESC;FMTTYPE=text/html:<p>Sjösättning, samling kl 07:30 klubbstugan, schema kommer senare</p>
LAST-MODIFIED:20241201T130236Z
SEQUENCE:187500
LOCATION:Askviksvägen\, Stockholm County\, Sverige
GEO:59.09743441;18.29000473
X-LOCATION-DISPLAYNAME:GBK70
X-ACCESS:1
X-HITS:768
X-COLOR:3366cc
X-SHOW-END-TIME:1
END:VEVENT
BEGIN:VEVENT
DTSTART;TZID=Europe/Stockholm:20250503T073000
DTEND;TZID=Europe/Stockholm:20250503T173000
UID:E6C846DC-B95C-4AD5-8C84-F7DA59C89DA1
SUMMARY:Sjösättning 2025
CREATED:20241129T085900Z
DTSTAMP:20241129T085900Z
URL:https://www.gbk70.se/index.php/component/dpcalendar/event/4?calid=11
DESCRIPTION:Sjösättning, samling kl 07:30 klubbstugan, schema kommer senare
X-ALT-DESC;FMTTYPE=text/html:<p>Sjösättning, samling kl 07:30 klubbstugan, schema kommer senare</p>
LAST-MODIFIED:20241201T130258Z
SEQUENCE:187438
LOCATION:Askviksvägen\, Stockholm County\, Sverige
GEO:59.09743441;18.29000473
X-LOCATION-DISPLAYNAME:GBK70
X-ACCESS:1
X-HITS:687
X-COLOR:3366cc
X-SHOW-END-TIME:1
END:VEVENT
BEGIN:VEVENT
DTSTART;TZID=Europe/Stockholm:20250504T073000
DTEND;TZID=Europe/Stockholm:20250504T173000
UID:E3EAC8AD-E5CF-41AF-ADE5-16E5622FBE9D
SUMMARY:Sjösättning 2025
CREATED:20241129T085934Z
DTSTAMP:20241129T085934Z
URL:https://www.gbk70.se/index.php/component/dpcalendar/event/5?calid=11
DESCRIPTION:Sjösättning, samling kl 07:30 klubbstugan, schema kommer senare
X-ALT-DESC;FMTTYPE=text/html:<p>Sjösättning, samling kl 07:30 klubbstugan, schema kommer senare</p>
LAST-MODIFIED:20241201T130311Z
SEQUENCE:187417
LOCATION:Askviksvägen\, Stockholm County\, Sverige
GEO:59.09743441;18.29000473
X-LOCATION-DISPLAYNAME:GBK70
X-ACCESS:1
X-HITS:620
X-COLOR:3366cc
X-SHOW-END-TIME:1
END:VEVENT
BEGIN:VEVENT
DTSTART;TZID=Europe/Stockholm:20250510T100000
DTEND;TZID=Europe/Stockholm:20250510T150000
UID:B226031F-9036-4AED-8547-C615B5F99170
SUMMARY:Vårens städdag/projektdag 
CREATED:20241129T090032Z
DTSTAMP:20241129T090032Z
URL:https://www.gbk70.se/index.php/component/dpcalendar/event/6?calid=11
DESCRIPTION:Städdag, samling kl 10:00 klubbstugan för information.
X-ALT-DESC;FMTTYPE=text/html:<p>Städdag, samling kl 10:00 klubbstugan för information.</p>
LAST-MODIFIED:20241129T090922Z
SEQUENCE:530
LOCATION:Askviksvägen\, Stockholm County\, Sverige
GEO:59.09743441;18.29000473
X-LOCATION-DISPLAYNAME:GBK70
X-ACCESS:1
X-HITS:730
X-COLOR:3366cc
X-SHOW-END-TIME:1
END:VEVENT
BEGIN:VEVENT
DTSTART;TZID=Europe/Stockholm:20250621T120000
DTEND;TZID=Europe/Stockholm:20250621T180000
UID:CBC12C30-75CF-4043-8744-7773BC45C568
SUMMARY:Midsommar Fjärdlång
CREATED:20250311T165828Z
DTSTAMP:20250311T165828Z
URL:https://www.gbk70.se/index.php/component/dpcalendar/event/7?calid=11
LAST-MODIFIED:20250507T072912Z
SEQUENCE:4890644
LOCATION:Stockholm County\, Sverige
GEO:59.04626740;18.52258050
X-LOCATION-DISPLAYNAME:Fjärdlång
X-ACCESS:1
X-HITS:570
X-COLOR:3366cc
X-SHOW-END-TIME:1
END:VEVENT
BEGIN:VEVENT
DTSTART;TZID=Europe/Stockholm:20250927T073000
DTEND;TZID=Europe/Stockholm:20250927T170000
UID:ECFE66C1-2216-4D59-A4B7-02502D9F9F21
SUMMARY:Torrsättning 2025
CREATED:20250507T065519Z
DTSTAMP:20250507T065519Z
URL:https://www.gbk70.se/index.php/component/dpcalendar/event/9?calid=11
DESCRIPTION:Samling vid klubbhuset 07:30
X-ALT-DESC;FMTTYPE=text/html:<p>Samling vid klubbhuset 07:30</p>
LAST-MODIFIED:20250507T072640Z
SEQUENCE:1881
LOCATION:Askviksvägen\, Stockholm County\, Sverige
GEO:59.09743441;18.29000473
X-LOCATION-DISPLAYNAME:GBK70
X-ACCESS:1
X-HITS:814
X-COLOR:3366cc
X-SHOW-END-TIME:1
END:VEVENT
BEGIN:VEVENT
DTSTART;TZID=Europe/Stockholm:20250928T073000
DTEND;TZID=Europe/Stockholm:20250928T170000
UID:9BA2493A-016E-4F34-B98A-124701F3785D
SUMMARY:Torrsättning 2025
CREATED:20250507T065600Z
DTSTAMP:20250507T065600Z
URL:https://www.gbk70.se/index.php/component/dpcalendar/event/10?calid=11
DESCRIPTION:Samling vid klubbhuset
X-ALT-DESC;FMTTYPE=text/html:<p>Samling vid klubbhuset</p>
LAST-MODIFIED:20250507T072733Z
SEQUENCE:1893
LOCATION:Askviksvägen\, Stockholm County\, Sverige
GEO:59.09743441;18.29000473
X-LOCATION-DISPLAYNAME:GBK70
X-ACCESS:1
X-HITS:633
X-COLOR:3366cc
X-SHOW-END-TIME:1
END:VEVENT
BEGIN:VEVENT
DTSTART;TZID=Europe/Stockholm:20251004T073000
DTEND;TZID=Europe/Stockholm:20251004T170000
UID:266BCC7C-79A9-4660-ABFA-53962ACE05F6
SUMMARY:Torrsättning 2025
CREATED:20250507T072127Z
DTSTAMP:20250507T072127Z
URL:https://www.gbk70.se/index.php/component/dpcalendar/event/12?calid=11
DESCRIPTION:Samling vid klubbhustet
X-ALT-DESC;FMTTYPE=text/html:<p>Samling vid klubbhustet</p>
LAST-MODIFIED:20250507T072127Z
SEQUENCE:0
LOCATION:Askviksvägen\, Stockholm County\, Sverige
GEO:59.09743441;18.29000473
X-LOCATION-DISPLAYNAME:GBK70
X-ACCESS:1
X-HITS:663
X-COLOR:3366cc
X-SHOW-END-TIME:1
END:VEVENT
BEGIN:VEVENT
DTSTART;TZID=Europe/Stockholm:20251005T073000
DTEND;TZID=Europe/Stockholm:20251005T170000
UID:9B06DC80-8299-4B0F-AD80-73D257B20C8D
SUMMARY:Torrsättning 2025
CREATED:20250507T072215Z
DTSTAMP:20250507T072215Z
URL:https://www.gbk70.se/index.php/component/dpcalendar/event/13?calid=11
DESCRIPTION:Samling vid klubbhuset
X-ALT-DESC;FMTTYPE=text/html:<p>Samling vid klubbhuset</p>
LAST-MODIFIED:20250507T072215Z
SEQUENCE:0
LOCATION:Askviksvägen\, Stockholm County\, Sverige
GEO:59.09743441;18.29000473
X-LOCATION-DISPLAYNAME:GBK70
X-ACCESS:1
X-HITS:505
X-COLOR:3366cc
X-SHOW-END-TIME:1
END:VEVENT
BEGIN:VEVENT
DTSTART;TZID=Europe/Stockholm:20251011T073000
DTEND;TZID=Europe/Stockholm:20251011T170000
UID:C911C8A7-9177-4071-92E7-2E27B2AFFA8B
SUMMARY:Torrsättning 2025
CREATED:20250507T072308Z
DTSTAMP:20250507T072308Z
URL:https://www.gbk70.se/index.php/component/dpcalendar/event/14?calid=11
DESCRIPTION:Samling vid klubbhuset
X-ALT-DESC;FMTTYPE=text/html:<p>Samling vid klubbhuset</p>
LAST-MODIFIED:20250507T072308Z
SEQUENCE:0
LOCATION:Askviksvägen\, Stockholm County\, Sverige
GEO:59.09743441;18.29000473
X-LOCATION-DISPLAYNAME:GBK70
X-ACCESS:1
X-HITS:577
X-COLOR:3366cc
X-SHOW-END-TIME:1
END:VEVENT
BEGIN:VEVENT
DTSTART;TZID=Europe/Stockholm:20251012T073000
DTEND;TZID=Europe/Stockholm:20251012T170000
UID:D6BC264A-AD47-429B-8E6E-08456D32F87E
SUMMARY:Torrsättning 2025
CREATED:20250507T072410Z
DTSTAMP:20250507T072410Z
URL:https://www.gbk70.se/index.php/component/dpcalendar/event/15?calid=11
DESCRIPTION:Samling vid klubbhuset
X-ALT-DESC;FMTTYPE=text/html:<p>Samling vid klubbhuset</p>
LAST-MODIFIED:20250507T072410Z
SEQUENCE:0
LOCATION:Askviksvägen\, Stockholm County\, Sverige
GEO:59.09743441;18.29000473
X-LOCATION-DISPLAYNAME:GBK70
X-ACCESS:1
X-HITS:418
X-COLOR:3366cc
X-SHOW-END-TIME:1
END:VEVENT
BEGIN:VEVENT
DTSTART;TZID=Europe/Stockholm:20251025T100000
DTEND;TZID=Europe/Stockholm:20251025T160000
UID:59089791-7492-4B9E-A03F-CBB90FDCE507
SUMMARY:Projektdag/städdag höst
CREATED:20250507T072544Z
DTSTAMP:20250507T072544Z
URL:https://www.gbk70.se/index.php/component/dpcalendar/event/16?calid=11
DESCRIPTION:Samling kl 10 klubbhusetArbetsuppgifterPumphus - 4 personer○ Städa invändigtMiljöbod för olja och glykol - 2 personer○ Städa inne i bodenMastförråd och vagnslider - 4 personer○ Städa○ Ta bort sly inne i mastförrådet○ Kontrollera hyllor och stag och laga om nödvändigt○ Ta bort/samla ihop master utan &quot;synligt&quot; ägarskap och lägg undan dessaArbetsbod - 4 personer○ Städa och plocka ihopStyrelsehuset - 2 st○ Städning av hela stugan\NKlubbhus - 6 st○ Städa kök noggrant inne i kylskåp, skåp, lådor, bakom spisen mm mm○ Putsa fönster○ Storstäda hela stugan○ Kasta gamla saker?○ Städa altanen och tvätta möblerna. Sen stapla ihop och täck medpresenning○ Städa väggen där vi sätter upp information, ta bort gamla papper, stift mmToaletter- 2 st sedan städa området○ Inventera om något är trasigt och behöver åtgärdas○ Storstäda med bl a Klorin invändigtStaket runt hela klubben 4 st○ Kontrollera och ev laga?Slyröjning - 2 st kör maskin, 2 st kör häcksax, 4 st plockar ihop○ Runt hela klubben, vid grinden och utsidan av staketet\NKlippa vass i vatten och vattenbryn- 4 st\NBryggor - 4 st○ Ta in vattenslangar?○ Flytta bommar?○ Kontrollera alla bryggorVatten och vattenrening - 2 personer○ Städning av förråd○ Rensning av filter?Kranar - 2 st○ Ta bort sling○ Tvätta sling med färskvatten och häng på tork○ Smörja\NStora hjullastaren - 2 st○ Städa invändigt○ Tvätta utvändigt○ Smörja○ Kolla motorolja, hydraulolja och kylvatten - fyll på vid behovLilla hjullastaren - 2 st○ Städa invändigt○ Tvätta utvändigt○ Smörja○ Kolla motorolja, hydraulolja och kylvatten - fyll på vid behovLastbil 1 och 2 - 2 st○ Städa invändigt○ Kolla motorolja, kylvatten - fyll på vid behovFlytta brandsläckare ut i området - 4 st-Placera ut ljusvagnarna på området - 4 st-El\No Laga belysning vid grindeno Diverse elarbeten
X-ALT-DESC;FMTTYPE=text/html:<p><strong>Samling kl 10 klubbhuset</strong><br /><br /><strong>Arbetsuppgifter</strong><br />Pumphus - 4 personer<br />○ Städa invändigt<br /><br />Miljöbod för olja och glykol - 2 personer<br />○ Städa inne i boden<br /><br />Mastförråd och vagnslider - 4 personer<br />○ Städa<br />○ Ta bort sly inne i mastförrådet<br />○ Kontrollera hyllor och stag och laga om nödvändigt<br />○ Ta bort/samla ihop master utan &amp;quot;synligt&amp;quot; ägarskap och lägg undan dessa<br /><br />Arbetsbod - 4 personer<br />○ Städa och plocka ihop<br /><br />Styrelsehuset - 2 st<br />○ Städning av hela stugan</p><p>Klubbhus - 6 st<br />○ Städa kök noggrant inne i kylskåp, skåp, lådor, bakom spisen mm mm<br />○ Putsa fönster<br />○ Storstäda hela stugan<br />○ Kasta gamla saker?<br />○ Städa altanen och tvätta möblerna. Sen stapla ihop och täck med<br />presenning<br />○ Städa väggen där vi sätter upp information, ta bort gamla papper, stift mm<br /><br />Toaletter- 2 st sedan städa området<br />○ Inventera om något är trasigt och behöver åtgärdas<br />○ Storstäda med bl a Klorin invändigt<br /><br />Staket runt hela klubben 4 st<br />○ Kontrollera och ev laga?<br />Slyröjning - 2 st kör maskin, 2 st kör häcksax, 4 st plockar ihop<br />○ Runt hela klubben, vid grinden och utsidan av staketet</p><p>Klippa vass i vatten och vattenbryn- 4 st</p><p>Bryggor - 4 st<br />○ Ta in vattenslangar?<br />○ Flytta bommar?<br />○ Kontrollera alla bryggor<br /><br />Vatten och vattenrening - 2 personer<br />○ Städning av förråd<br />○ Rensning av filter?<br /><br />Kranar - 2 st<br />○ Ta bort sling<br />○ Tvätta sling med färskvatten och häng på tork<br />○ Smörja</p><p>Stora hjullastaren - 2 st<br />○ Städa invändigt<br />○ Tvätta utvändigt<br />○ Smörja<br />○ Kolla motorolja, hydraulolja och kylvatten - fyll på vid behov<br /><br />Lilla hjullastaren - 2 st<br />○ Städa invändigt<br />○ Tvätta utvändigt<br />○ Smörja<br />○ Kolla motorolja, hydraulolja och kylvatten - fyll på vid behov<br /><br />Lastbil 1 och 2 - 2 st<br />○ Städa invändigt<br />○ Kolla motorolja, kylvatten - fyll på vid behov<br /><br />Flytta brandsläckare ut i området - 4 st<br />-<br />Placera ut ljusvagnarna på området - 4 st<br />-<br /><strong>El</strong></p><p>o Laga belysning vid grinden<br />o Diverse elarbeten</p>
LAST-MODIFIED:20251021T152628Z
SEQUENCE:14457644
LOCATION:Askviksvägen\, Stockholm County\, Sverige
GEO:59.09743441;18.29000473
X-LOCATION-DISPLAYNAME:GBK70
X-ACCESS:1
X-HITS:647
X-COLOR:3366cc
X-SHOW-END-TIME:1
END:VEVENT
BEGIN:VEVENT
DTSTART;TZID=Europe/Stockholm:20260219T190000
DTEND;TZID=Europe/Stockholm:20260219T213000
UID:31933A72-F1B4-4960-A338-C034F8B93269
SUMMARY:GBK Årsmöte
CREATED:20251210T202959Z
DTSTAMP:20251210T202959Z
URL:https://www.gbk70.se/index.php/component/dpcalendar/event/17?calid=11
DESCRIPTION:Motioner ska vara inskickade till info@gbk70.se senast 7e januari. Handlingar skickas ut 2v innan mötet.
X-ALT-DESC;FMTTYPE=text/html:<p>Motioner ska vara inskickade till <a href="mailto:info@gbk70.se">info@gbk70.se</a> senast 7e januari. Handlingar skickas ut 2v innan mötet.</p>
LAST-MODIFIED:20251210T203108Z
SEQUENCE:69
LOCATION:Dalarövägen\, 136 45 Handen\, Stockholm County\, Sverige
GEO:59.16690416;18.15155983
X-LOCATION-DISPLAYNAME:Fredrika Bremer Gymnasiet
X-ACCESS:1
X-HITS:350
X-COLOR:3366cc
X-SHOW-END-TIME:0
END:VEVENT
BEGIN:VEVENT
DTSTART;TZID=Europe/Stockholm:20260418T100000
DTEND;TZID=Europe/Stockholm:20260418T130000
UID:6DAE1208-60CF-46D2-B627-7FF23424BDCD
SUMMARY:Bommflytt - arbetsdag
CREATED:20260407T153120Z
DTSTAMP:20260407T153120Z
URL:https://www.gbk70.se/index.php/component/dpcalendar/event/23?calid=11
DESCRIPTION:Bommflytt - olja bryggor arbetsdagAnmälan i BAS
X-ALT-DESC;FMTTYPE=text/html:<p>Bommflytt - olja bryggor arbetsdag<br />Anmälan i BAS</p>
LAST-MODIFIED:20260407T153906Z
SEQUENCE:466
LOCATION:Askviksvägen\, Stockholm County\, Sverige
GEO:59.09743441;18.29000473
X-LOCATION-DISPLAYNAME:GBK70
X-ACCESS:1
X-HITS:70
X-COLOR:3366cc
X-SHOW-END-TIME:1
END:VEVENT
BEGIN:VEVENT
DTSTART;TZID=Europe/Stockholm:20260419T100000
DTEND;TZID=Europe/Stockholm:20260419T150000
UID:E8B41FF3-22AF-4468-B8D0-29E83CABD28D
SUMMARY:Olja bryggor arbetsdag
CREATED:20260407T153353Z
DTSTAMP:20260407T153353Z
URL:https://www.gbk70.se/index.php/component/dpcalendar/event/24?calid=11
DESCRIPTION:Olja bryggor arbetsdag\NAnmälan i BAS
X-ALT-DESC;FMTTYPE=text/html:<p>Olja bryggor arbetsdag</p><p>Anmälan i BAS</p>
LAST-MODIFIED:20260407T153918Z
SEQUENCE:325
LOCATION:Askviksvägen\, Stockholm County\, Sverige
GEO:59.09743441;18.29000473
X-LOCATION-DISPLAYNAME:GBK70
X-ACCESS:1
X-HITS:63
X-COLOR:3366cc
X-SHOW-END-TIME:1
END:VEVENT
BEGIN:VEVENT
DTSTART;TZID=Europe/Stockholm:20260425T073000
DTEND;TZID=Europe/Stockholm:20260425T170000
UID:166F0E7E-C690-4FE9-8295-8242B06D0BE0
SUMMARY:Sjösättning
CREATED:20251210T203208Z
DTSTAMP:20251210T203208Z
URL:https://www.gbk70.se/index.php/component/dpcalendar/event/18?calid=11
DESCRIPTION:Dag 1 för sjösättning. Samling vid klubbstugan
X-ALT-DESC;FMTTYPE=text/html:<p>Dag 1 för sjösättning. Samling vid klubbstugan</p>
LAST-MODIFIED:20251210T203208Z
SEQUENCE:0
X-ACCESS:1
X-HITS:1390
X-COLOR:3366cc
X-SHOW-END-TIME:1
END:VEVENT
BEGIN:VEVENT
DTSTART;TZID=Europe/Stockholm:20260426T073000
DTEND;TZID=Europe/Stockholm:20260426T173000
UID:D794FDC3-518E-4986-BFF3-C1336D62C83B
SUMMARY:Sjösättning
CREATED:20251210T203314Z
DTSTAMP:20251210T203314Z
URL:https://www.gbk70.se/index.php/component/dpcalendar/event/19?calid=11
DESCRIPTION:Dag 2 sjösättning, Samling vid klubbstugan
X-ALT-DESC;FMTTYPE=text/html:<p>Dag 2 sjösättning, Samling vid klubbstugan</p>
LAST-MODIFIED:20251210T203314Z
SEQUENCE:0
X-ACCESS:1
X-HITS:376
X-COLOR:3366cc
X-SHOW-END-TIME:1
END:VEVENT
BEGIN:VEVENT
DTSTART;TZID=Europe/Stockholm:20260502T073000
DTEND;TZID=Europe/Stockholm:20260502T173000
UID:B824A7A6-4479-4F3E-B8EA-171DB0B07562
SUMMARY:Sjösättning
CREATED:20251210T203423Z
DTSTAMP:20251210T203423Z
URL:https://www.gbk70.se/index.php/component/dpcalendar/event/20?calid=11
DESCRIPTION:Dag 3 sjösättning, Samling vid klubbstugan
X-ALT-DESC;FMTTYPE=text/html:<p>Dag 3 sjösättning, Samling vid klubbstugan</p>
LAST-MODIFIED:20251210T203534Z
SEQUENCE:71
X-ACCESS:1
X-HITS:390
X-COLOR:3366cc
X-SHOW-END-TIME:1
END:VEVENT
BEGIN:VEVENT
DTSTART;TZID=Europe/Stockholm:20260503T073000
DTEND;TZID=Europe/Stockholm:20260503T170000
UID:2B050659-75E1-4D94-80D5-C3249DA96896
SUMMARY:Sjösättning 
CREATED:20251210T203605Z
DTSTAMP:20251210T203605Z
URL:https://www.gbk70.se/index.php/component/dpcalendar/event/22?calid=11
DESCRIPTION:Dag 4 sjösättning, Samling vid klubbstugan
X-ALT-DESC;FMTTYPE=text/html:<p>Dag 4 sjösättning, Samling vid klubbstugan</p>
LAST-MODIFIED:20251210T203605Z
SEQUENCE:0
X-ACCESS:1
X-HITS:384
X-COLOR:3366cc
X-SHOW-END-TIME:1
END:VEVENT
BEGIN:VEVENT
DTSTART;TZID=Europe/Stockholm:20260509T100000
DTEND;TZID=Europe/Stockholm:20260509T150000
UID:CFF81CAD-2ADC-4858-98DF-5D54271F1AD8
SUMMARY:Projekt & städdag
CREATED:20260407T153658Z
DTSTAMP:20260407T153658Z
URL:https://www.gbk70.se/index.php/component/dpcalendar/event/25?calid=11
DESCRIPTION:Projekt & städdaganmälan i BAS
X-ALT-DESC;FMTTYPE=text/html:<p>Projekt &amp; städdag<br />anmälan i BAS</p>
LAST-MODIFIED:20260407T153658Z
SEQUENCE:0
X-ACCESS:1
X-HITS:9
X-COLOR:3366cc
X-SHOW-END-TIME:1
END:VEVENT
BEGIN:VEVENT
DTSTART;TZID=Europe/Stockholm:20260619T120000
DTEND;TZID=Europe/Stockholm:20260619T220000
UID:346C4532-DFFB-4666-9603-3455E1DFF1BD
SUMMARY:Midsommar 
CREATED:20260407T154108Z
DTSTAMP:20260407T154108Z
URL:https://www.gbk70.se/index.php/component/dpcalendar/event/26?calid=11
DESCRIPTION:Midsommar Fjärdlång
X-ALT-DESC;FMTTYPE=text/html:<p>Midsommar Fjärdlång</p>
LAST-MODIFIED:20260407T154108Z
SEQUENCE:0
LOCATION:Stockholm County\, Sverige
GEO:59.04626740;18.52258050
X-LOCATION-DISPLAYNAME:Fjärdlång
X-ACCESS:1
X-HITS:16
X-COLOR:3366cc
X-SHOW-END-TIME:1
END:VEVENT
BEGIN:VEVENT
DTSTART;TZID=Europe/Stockholm:20261024T100000
DTEND;TZID=Europe/Stockholm:20261024T150000
UID:8F48B474-9F17-4BFB-8A28-E7B8905741B2
SUMMARY:Projekt & städdag
CREATED:20260407T154310Z
DTSTAMP:20260407T154310Z
URL:https://www.gbk70.se/index.php/component/dpcalendar/event/27?calid=11
LAST-MODIFIED:20260407T154310Z
SEQUENCE:0
LOCATION:Askviksvägen\, Stockholm County\, Sverige
GEO:59.09743441;18.29000473
X-LOCATION-DISPLAYNAME:GBK70
X-ACCESS:1
X-HITS:23
X-COLOR:3366cc
X-SHOW-END-TIME:1
END:VEVENT
END:VCALENDAR